BEGIN:VCALENDAR
VERSION:2.0
PRODID:-//Faith Christian School of Grand Detour, Illinois - ECPv6.15.20//NONSGML v1.0//EN
CALSCALE:GREGORIAN
METHOD:PUBLISH
X-WR-CALNAME:Faith Christian School of Grand Detour, Illinois
X-ORIGINAL-URL:https://fcsfalcons.com
X-WR-CALDESC:Events for Faith Christian School of Grand Detour, Illinois
REFRESH-INTERVAL;VALUE=DURATION:PT1H
X-Robots-Tag:noindex
X-PUBLISHED-TTL:PT1H
BEGIN:VTIMEZONE
TZID:America/Chicago
BEGIN:DAYLIGHT
TZOFFSETFROM:-0600
TZOFFSETTO:-0500
TZNAME:CDT
DTSTART:20250309T080000
END:DAYLIGHT
BEGIN:STANDARD
TZOFFSETFROM:-0500
TZOFFSETTO:-0600
TZNAME:CST
DTSTART:20251102T070000
END:STANDARD
BEGIN:DAYLIGHT
TZOFFSETFROM:-0600
TZOFFSETTO:-0500
TZNAME:CDT
DTSTART:20260308T080000
END:DAYLIGHT
BEGIN:STANDARD
TZOFFSETFROM:-0500
TZOFFSETTO:-0600
TZNAME:CST
DTSTART:20261101T070000
END:STANDARD
BEGIN:DAYLIGHT
TZOFFSETFROM:-0600
TZOFFSETTO:-0500
TZNAME:CDT
DTSTART:20270314T080000
END:DAYLIGHT
BEGIN:STANDARD
TZOFFSETFROM:-0500
TZOFFSETTO:-0600
TZNAME:CST
DTSTART:20271107T070000
END:STANDARD
END:VTIMEZONE
BEGIN:VEVENT
DTSTART;TZID=America/Chicago:20260421T170000
DTEND;TZID=America/Chicago:20260421T190000
DTSTAMP:20260421T012321
CREATED:20260326T171427Z
LAST-MODIFIED:20260326T171737Z
UID:38996-1776790800-1776798000@fcsfalcons.com
SUMMARY:Art Fair
DESCRIPTION:Our Art Fair celebrates the creativity and talent of students in grades 5–12. Each piece on display represents the imagination\, skill\, and unique perspective of young artists who have worked hard to bring their ideas to life. Join us in supporting and encouraging the next generation of artists!
URL:https://fcsfalcons.com/event/art-fair/
LOCATION:HS/MS Campus\, 7571 S. Ridge Road\, Dixon\, IL\, 61021\, United States
CATEGORIES:High School Events,Middle School Events
ATTACH;FMTTYPE=image/jpeg:https://fcsfalcons.com/wp-content/uploads/2026/03/IMG-9392-e1774545424353.jpg
END:VEVENT
END:VCALENDAR