BEGIN:VCALENDAR
VERSION:2.0
PRODID:-//Faith Christian School of Grand Detour, Illinois - ECPv6.15.20//NONSGML v1.0//EN
CALSCALE:GREGORIAN
METHOD:PUBLISH
X-ORIGINAL-URL:https://fcsfalcons.com
X-WR-CALDESC:Events for Faith Christian School of Grand Detour, Illinois
REFRESH-INTERVAL;VALUE=DURATION:PT1H
X-Robots-Tag:noindex
X-PUBLISHED-TTL:PT1H
BEGIN:VTIMEZONE
TZID:America/Chicago
BEGIN:DAYLIGHT
TZOFFSETFROM:-0600
TZOFFSETTO:-0500
TZNAME:CDT
DTSTART:20250309T080000
END:DAYLIGHT
BEGIN:STANDARD
TZOFFSETFROM:-0500
TZOFFSETTO:-0600
TZNAME:CST
DTSTART:20251102T070000
END:STANDARD
BEGIN:DAYLIGHT
TZOFFSETFROM:-0600
TZOFFSETTO:-0500
TZNAME:CDT
DTSTART:20260308T080000
END:DAYLIGHT
BEGIN:STANDARD
TZOFFSETFROM:-0500
TZOFFSETTO:-0600
TZNAME:CST
DTSTART:20261101T070000
END:STANDARD
BEGIN:DAYLIGHT
TZOFFSETFROM:-0600
TZOFFSETTO:-0500
TZNAME:CDT
DTSTART:20270314T080000
END:DAYLIGHT
BEGIN:STANDARD
TZOFFSETFROM:-0500
TZOFFSETTO:-0600
TZNAME:CST
DTSTART:20271107T070000
END:STANDARD
END:VTIMEZONE
BEGIN:VEVENT
DTSTART;TZID=America/Chicago:20260514T183000
DTEND;TZID=America/Chicago:20260514T193000
DTSTAMP:20260423T014256
CREATED:20210719T181845Z
LAST-MODIFIED:20260306T193755Z
UID:12852-1778783400-1778787000@fcsfalcons.com
SUMMARY:Preschool Graduation
DESCRIPTION:
URL:https://fcsfalcons.com/event/pre-school-graduation/
CATEGORIES:Preschool Events
ATTACH;FMTTYPE=image/png:https://fcsfalcons.com/wp-content/uploads/2019/01/e304d365dc34afe697ea8a3dd93eabed.png
END:VEVENT
BEGIN:VEVENT
DTSTART;VALUE=DATE:20260521
DTEND;VALUE=DATE:20260523
DTSTAMP:20260423T014256
CREATED:20240803T012048Z
LAST-MODIFIED:20250722T135504Z
UID:36984-1779321600-1779494399@fcsfalcons.com
SUMMARY:No School / Teachers' In-Service Day
DESCRIPTION:
URL:https://fcsfalcons.com/event/no-school-teachers-in-service-day/
CATEGORIES:Elementary Events,High School Events,Middle School Events,No School,Preschool Events
ATTACH;FMTTYPE=image/png:https://fcsfalcons.com/wp-content/uploads/2025/07/Teachers-in-service-day.png
END:VEVENT
END:VCALENDAR